BEGIN:VCALENDAR
VERSION:2.0
PRODID:icalendar-ruby
CALSCALE:GREGORIAN
METHOD:PUBLISH
BEGIN:VEVENT
DTSTAMP:20260420T063046Z
UID:12-498498@rccgpassion.tithelysetup5.com
DTSTART:20260918T000000Z
DTEND:20260918T004500Z
CLASS:PUBLIC
CREATED:20260419T233135
DESCRIPTION:Thursday Prayers
LAST-MODIFIED:20260419T233135
LOCATION:Virtual
SUMMARY:Thursday Prayers
URL;VALUE=URI:https://rccgpassioncity.com/events/thursday-prayers/2026-09-1
 7
ATTACH;FILENAME=WhatsApp-Image-2024-03-18-at-8.38.32-PM.jpeg;FMTTYPE=image/
 jpeg:https://dq5pwpg1q8ru0.cloudfront.net/2024/04/01/23/03/33/2f2994f3-804
 4-48be-b554-6f18f4b81b78/WhatsApp-Image-2024-03-18-at-8.38.32-PM.jpeg
END:VEVENT
END:VCALENDAR
